BEGIN:VCALENDAR
VERSION:2.0
PRODID:-//Lake Anne Coffee House - ECPv6.2.0.1//NONSGML v1.0//EN
CALSCALE:GREGORIAN
METHOD:PUBLISH
X-ORIGINAL-URL:https://lakeannecoffeehouse.com
X-WR-CALDESC:Events for Lake Anne Coffee House
REFRESH-INTERVAL;VALUE=DURATION:PT1H
X-Robots-Tag:noindex
X-PUBLISHED-TTL:PT1H
BEGIN:VTIMEZONE
TZID:UTC
BEGIN:STANDARD
TZOFFSETFROM:+0000
TZOFFSETTO:+0000
TZNAME:UTC
DTSTART:20220101T000000
END:STANDARD
END:VTIMEZONE
BEGIN:VEVENT
DTSTART;TZID=UTC:20220211T060000
DTEND;TZID=UTC:20220211T210000
DTSTAMP:20260422T005755
CREATED:20211221T195041Z
LAST-MODIFIED:20211221T195043Z
UID:2759-1644559200-1644613200@lakeannecoffeehouse.com
SUMMARY:Bobby Thompson Blues in the Wine Room
DESCRIPTION:Do you have those mid-winter blues? We’ve got you covered–we’ve got Bobby Thompson\, singing the Blues\, in our very blue Wine Room.  Sometimes you just have to lean into the situation! So bring some friends\, have some great food\, have Andy make a wine recommendation–together we’ll do our best to chase away the chill.  Spring is only 37 days away! \n\n\n\n\n\n\n\n\n\n\n\n\n	\n		Share This Story\, Choose Your Platform!\n		FacebookTwitterRedditLinkedInTumblrPinterestVkEmail
URL:https://lakeannecoffeehouse.com/event/bobby-thompson-blues-in-the-wine-room/
ATTACH;FMTTYPE=image/jpeg:https://lakeannecoffeehouse.com/wp-content/uploads/2021/12/Standing-Bobby.jpg
END:VEVENT
END:VCALENDAR